BEGIN:VCALENDAR
VERSION:2.0
PRODID:-//AVUWPD | Alumni Vereinigung Up with People Deutschland e.V. - ECPv6.15.20//NONSGML v1.0//EN
CALSCALE:GREGORIAN
METHOD:PUBLISH
X-ORIGINAL-URL:https://avuwpd.de
X-WR-CALDESC:Veranstaltungen für AVUWPD | Alumni Vereinigung Up with People Deutschland e.V.
REFRESH-INTERVAL;VALUE=DURATION:PT1H
X-Robots-Tag:noindex
X-PUBLISHED-TTL:PT1H
BEGIN:VTIMEZONE
TZID:Europe/Berlin
BEGIN:DAYLIGHT
TZOFFSETFROM:+0100
TZOFFSETTO:+0200
TZNAME:CEST
DTSTART:20170326T010000
END:DAYLIGHT
BEGIN:STANDARD
TZOFFSETFROM:+0200
TZOFFSETTO:+0100
TZNAME:CET
DTSTART:20171029T010000
END:STANDARD
BEGIN:DAYLIGHT
TZOFFSETFROM:+0100
TZOFFSETTO:+0200
TZNAME:CEST
DTSTART:20180325T010000
END:DAYLIGHT
BEGIN:STANDARD
TZOFFSETFROM:+0200
TZOFFSETTO:+0100
TZNAME:CET
DTSTART:20181028T010000
END:STANDARD
BEGIN:DAYLIGHT
TZOFFSETFROM:+0100
TZOFFSETTO:+0200
TZNAME:CEST
DTSTART:20190331T010000
END:DAYLIGHT
BEGIN:STANDARD
TZOFFSETFROM:+0200
TZOFFSETTO:+0100
TZNAME:CET
DTSTART:20191027T010000
END:STANDARD
END:VTIMEZONE
BEGIN:VEVENT
DTSTART;TZID=Europe/Berlin:20180301T190000
DTEND;TZID=Europe/Berlin:20180301T200000
DTSTAMP:20260422T110105
CREATED:20180227T210146Z
LAST-MODIFIED:20180227T211111Z
UID:1064-1519930800-1519934400@avuwpd.de
SUMMARY:Alumni-Info-Treffen: Cast A18 in Hamburg
DESCRIPTION:Cast A 2018 kommt im Mai nach Hamburg und der Veranstalter\, die Sundance Communications von Oliver Wirtz (C87)\, lädt zum Informations-Treffen für alle Alumni ein. \n  \nDonnerstag\, 01.03.2018\, 19.00 Uhr\nSundance Communications GmbH\nHans-Henny-Jahnn-Weg 35\nGebäude Fleetseite (hinten)\, 2. Stock\n22085 Hamburg \n \nBitte meldet euch kurz bei Vanessa\, wenn ihr teilnehmen möchtet\, an einem späteren Termin Interesse hättet oder das Team anderweitig unterstützen möchtet.\nVanessa Clark\, vanessa.clark@sundance.de
URL:https://avuwpd.de/event/alumni-info-treffen/
CATEGORIES:Norden,Veranstaltungen
ATTACH;FMTTYPE=image/jpeg:https://avuwpd.de/wp-content/uploads/2018/02/cast-a18-hamburg.jpg
END:VEVENT
BEGIN:VEVENT
DTSTART;TZID=Europe/Berlin:20180303T150000
DTEND;TZID=Europe/Berlin:20180303T220000
DTSTAMP:20260422T110105
CREATED:20180228T102934Z
LAST-MODIFIED:20180228T102934Z
UID:1077-1520089200-1520114400@avuwpd.de
SUMMARY:Wir in München: Eisstockschießen
DESCRIPTION:Die Münchener Alumni sind wieder unterwegs: Es geht zum Eisstockschießen auf dem Nymphenburger Kanal! \nWann? Am Samstag\, 3. März 2018 ab 15 Uhr. \nWo? Auf dem zugefrorenem Nymphenburger Kanal.\nDetails gibt es hier: www.eisstockbahnen.de \nDie Kosten sind überschaubar:\nDie Bahn kostet pro Person 4.- Euro + 3.- für den Stock. Wir können schießen\, so lange wir möchten – naja oder bis die Bahnen um 22 Uhr schließen 😉 \nEs macht wirklich riesigen Spaß und es sind keinerlei Vorkenntnisse nötig! Wir sind bereits ein Trupp von acht Uppies\, vielleicht hat der ein oder andere in der Stadt\, im Umland oder sogar von etwas weiter her Lust und ist auch mit dabei! \nWer dabei sein möchte\, meldet sich bitte bei Petra Schiller (A95).
URL:https://avuwpd.de/event/muenchen_eisstockschiessen/
CATEGORIES:Süden,Veranstaltungen
ATTACH;FMTTYPE=image/jpeg:https://avuwpd.de/wp-content/uploads/2018/02/wir-in-mnchen-eisstockschieen.jpg
END:VEVENT
END:VCALENDAR