BEGIN:VCALENDAR
VERSION:2.0
PRODID:-//AVUWPD | Alumni Vereinigung Up with People Deutschland e.V. - ECPv6.15.20//NONSGML v1.0//EN
CALSCALE:GREGORIAN
METHOD:PUBLISH
X-ORIGINAL-URL:https://avuwpd.de
X-WR-CALDESC:Veranstaltungen für AVUWPD | Alumni Vereinigung Up with People Deutschland e.V.
REFRESH-INTERVAL;VALUE=DURATION:PT1H
X-Robots-Tag:noindex
X-PUBLISHED-TTL:PT1H
BEGIN:VTIMEZONE
TZID:Europe/Berlin
BEGIN:DAYLIGHT
TZOFFSETFROM:+0100
TZOFFSETTO:+0200
TZNAME:CEST
DTSTART:20160327T010000
END:DAYLIGHT
BEGIN:STANDARD
TZOFFSETFROM:+0200
TZOFFSETTO:+0100
TZNAME:CET
DTSTART:20161030T010000
END:STANDARD
BEGIN:DAYLIGHT
TZOFFSETFROM:+0100
TZOFFSETTO:+0200
TZNAME:CEST
DTSTART:20170326T010000
END:DAYLIGHT
BEGIN:STANDARD
TZOFFSETFROM:+0200
TZOFFSETTO:+0100
TZNAME:CET
DTSTART:20171029T010000
END:STANDARD
BEGIN:DAYLIGHT
TZOFFSETFROM:+0100
TZOFFSETTO:+0200
TZNAME:CEST
DTSTART:20180325T010000
END:DAYLIGHT
BEGIN:STANDARD
TZOFFSETFROM:+0200
TZOFFSETTO:+0100
TZNAME:CET
DTSTART:20181028T010000
END:STANDARD
END:VTIMEZONE
BEGIN:VEVENT
DTSTART;TZID=Europe/Berlin:20171215T180000
DTEND;TZID=Europe/Berlin:20171215T235900
DTSTAMP:20260422T163157
CREATED:20171215T133637Z
LAST-MODIFIED:20171215T133637Z
UID:1055-1513360800-1513382340@avuwpd.de
SUMMARY:WIR in München: Extraplatt eintüten & Weihnachtsmarkt
DESCRIPTION:Liebe Weihnachtsmarktfans\,\n\nam Freitag treffen wir uns zum Eintüten des Extraplatts (!) und anschließendem Besuch des Schwabinger Weihnachtsmarkts. Wer bei einer oder beiden Aktionen dabei sein möchte: Wir FREUEN uns – und immer auch auf neue Gesichter!\n\n18 Uhr Treffen bei Schobloch-Dommnichs (die Adresse gibt’s über den WIR-Verteiler oder bei bettina.domnich (a) gmx.de.)\n\n19.30 Uhr Auf zum Glühweintrinken\n\nViele Grüße an alle\nBettina Dommnich
URL:https://avuwpd.de/event/wir-munchen-extraplatt-eintuten-weihnachtsmarkt/
ATTACH;FMTTYPE=image/jpeg:https://avuwpd.de/wp-content/uploads/2017/12/wir-in-mnchen-weihnachtsmarkt.jpg
END:VEVENT
BEGIN:VEVENT
DTSTART;TZID=Europe/Berlin:20171218T180000
DTEND;TZID=Europe/Berlin:20171218T235900
DTSTAMP:20260422T163157
CREATED:20171209T113126Z
LAST-MODIFIED:20190417T224406Z
UID:1034-1513620000-1513641540@avuwpd.de
SUMMARY:WIR in Düsseldorf: Weihnachtsmarkt
DESCRIPTION:Neuer Termin für den Weihnachtsmarkt in Düsseldorf!\nAm Montag\, 18.12. ist es endlich so weit! Wir freuen uns auf viele Uppies beim Düsseldorfer Weihnachtsmarkt und treffen uns um 18 Uhr vor dem Carsch-Haus. Dort ist ne Weihnachtspyramide (Ecke Flinger Straße)\, und an genau dieser sind wir zu finden.
URL:https://avuwpd.de/event/wir-in-duesseldorf-weihnachtsmarkt/
ATTACH;FMTTYPE=image/jpeg:https://avuwpd.de/wp-content/uploads/2017/12/wir-in-dsseldorf-weihnachtmarkt.jpg
END:VEVENT
BEGIN:VEVENT
DTSTART;TZID=Europe/Berlin:20171221T180000
DTEND;TZID=Europe/Berlin:20171221T235900
DTSTAMP:20260422T163157
CREATED:20171209T115442Z
LAST-MODIFIED:20190417T224204Z
UID:1039-1513879200-1513900740@avuwpd.de
SUMMARY:Wir im Pott II: Weihnachtsmarkt Bochum
DESCRIPTION:Es ist so weit\, die Weihnachtsmarktsaison ist gestartet. Das wollen wir uns auch im Ruhrpott nicht entgehen lassen. \n„Wir im Pott“ Teil II trifft sich am 21.12. um 18:00 in der Empfangshalle am Bochumer Hauptbahnhof und dann geht es gemeinsam auf den Weihnachtsmarkt. \nAuch Nichtruhrpottler sind herzlich willkommen!
URL:https://avuwpd.de/event/wir-im-pott-ii-weihnachtsmarkt-bochum/
LOCATION:Treffpunkt: Empfangshalle Bochum HBF
ATTACH;FMTTYPE=image/jpeg:https://avuwpd.de/wp-content/uploads/2017/12/wir-im-pott-ii.jpg
END:VEVENT
END:VCALENDAR