BEGIN:VCALENDAR
VERSION:2.0
PRODID:-//AVUWPD | Alumni Vereinigung Up with People Deutschland e.V. - ECPv6.15.20//NONSGML v1.0//EN
CALSCALE:GREGORIAN
METHOD:PUBLISH
X-ORIGINAL-URL:https://avuwpd.de
X-WR-CALDESC:Veranstaltungen für AVUWPD | Alumni Vereinigung Up with People Deutschland e.V.
REFRESH-INTERVAL;VALUE=DURATION:PT1H
X-Robots-Tag:noindex
X-PUBLISHED-TTL:PT1H
BEGIN:VTIMEZONE
TZID:Europe/Berlin
BEGIN:DAYLIGHT
TZOFFSETFROM:+0100
TZOFFSETTO:+0200
TZNAME:CEST
DTSTART:20160327T010000
END:DAYLIGHT
BEGIN:STANDARD
TZOFFSETFROM:+0200
TZOFFSETTO:+0100
TZNAME:CET
DTSTART:20161030T010000
END:STANDARD
BEGIN:DAYLIGHT
TZOFFSETFROM:+0100
TZOFFSETTO:+0200
TZNAME:CEST
DTSTART:20170326T010000
END:DAYLIGHT
BEGIN:STANDARD
TZOFFSETFROM:+0200
TZOFFSETTO:+0100
TZNAME:CET
DTSTART:20171029T010000
END:STANDARD
BEGIN:DAYLIGHT
TZOFFSETFROM:+0100
TZOFFSETTO:+0200
TZNAME:CEST
DTSTART:20180325T010000
END:DAYLIGHT
BEGIN:STANDARD
TZOFFSETFROM:+0200
TZOFFSETTO:+0100
TZNAME:CET
DTSTART:20181028T010000
END:STANDARD
END:VTIMEZONE
BEGIN:VEVENT
DTSTART;VALUE=DATE:20170812
DTEND;VALUE=DATE:20170813
DTSTAMP:20260422T232339
CREATED:20170704T125317Z
LAST-MODIFIED:20170704T125317Z
UID:963-1502496000-1502582399@avuwpd.de
SUMMARY:WIR am Niederrhein: Kanutour
DESCRIPTION:Für Samstag\, den 12. August 2017 eine Alumni-Kanu-Tour auf unserem Hausfluss Niers geplant\, die einige Alumni gemeinsam schon mehrfach und bei jeder Wetterlage hinuntergefahren sind. \nLeider sind Anzahl der vorhandenen Boote und deren Transportkapazitäten zum Einsatzort begrenzt\, so dass auch die Teilnehmerzahl begrenzt ist. Es sei denn\, Du bringst Dein eigenes Boot mit. Daher melde Dich umgehend an\, wenn Du mitpaddeln willst. Wir wollen wieder die 25 km von Schloss Wissen bis Kessel auf dem Wasser zurücklegen. (Übrigens\, es gibt auch einen Radweg entlang des Ufers!) \nNäheres zu diesem wassersportlichen Abenteuer kannst Du beim Kanuexperten Gregor W. erfahren. \n 
URL:https://avuwpd.de/event/wir-niederrhein-kanutour/
CATEGORIES:Westen
END:VEVENT
BEGIN:VEVENT
DTSTART;TZID=Europe/Berlin:20170824T190000
DTEND;TZID=Europe/Berlin:20170824T230000
DTSTAMP:20260422T232339
CREATED:20170710T175923Z
LAST-MODIFIED:20170710T180212Z
UID:982-1503601200-1503615600@avuwpd.de
SUMMARY:WIR in Köln: Besuch von UWP aus Denver
DESCRIPTION:Wir treffen uns in Jojos VW Bulli in der wohngemeinschaft! \nDenn wir bekommen hohen Besuch: Die Admissions-Direktorin von UWP ist auf Deutschlandreise und will uns gerne kennenlernen. Begleitet wird sie von ihrem deutschen Ehemann Jens Trumpa. \nJens schreibt: „Das Büro Up With People kommt aus Denver nach Kölen. Jenni\, Director of Admissions\, freut sich auf den August Stammtisch\, um bei einem leckeren Kölsch mit Euch über UWP zu plaudern. Jenni und ich\, Jens\, sind ein Cast Couple. Wir waren 1996 mit Cast C „on the road“. Jenni ist als Dance Captain in ’98 noch einmal gereist und war im Staging für Common Beat dabei . Ich habe im Staging 1998 an der Seite von Marc Thomas gearbeitet. UWP war danach für uns beide zwar eher im Hintergrund. Zwar waren wir kein offizielles Castcouple\, doch hat uns das nicht abgeschreckt nach unsere Reise 2003 nach Ecuador eine Familie zu gründen. Nach zehn Jahren Hawaii und zwei Jahren Bend\, Oregon haben wir nun 3 Kinder (Phoebe 2 \, Valentina 10\, Florian 12). \nEnde des letzten Jahres stieβ Jenni eher zufällig auf die Position Director of Admissions von Up With People und war direkt begeistert. Seit Februar ist sie im Büro und fasst langsam Fuβ. Dass sich bei der Organisation einiges ändern muss\, ist allen klar und war auch ein Grund\, diese Herausforderung anzunehmen und mit der ganzen Familie erneut umzuziehen. Bei einer so weit reichenden groβen Organisation wie UWP\, mit Leuten weltweit\, gibt es natürlich mehr Köche als Töpfe und mehr Zutateten als Rezepte\, doch hat Jenni sich vorgenommen\, vor allem die Alumni weltweit wieder aktiv produktiv mit einzubinden. Sie freut sich daher\, Eure Ideen zu hören\, um die Lücke „Büro USA – Alumni Europa“ zu schlieβen oder zu überbrücken. Da ich seit über zehn Jahren in den USA lebe\, kann ich da sicherlich vieles im Nachhinein erläutern oder klarer machen. Ich freue mich schlichtweg\, Euch zu treffen und einige von Euch nach all den Jahren wieder zu sehen. Bis August! Jens“
URL:https://avuwpd.de/event/wir-koln-besuch-von-uwp-aus-denver/
LOCATION:die wohngemeinschaft\, Richard-Wagner-Str. 39\, Köln\, 50674\, Germany
CATEGORIES:Westen
END:VEVENT
BEGIN:VEVENT
DTSTART;TZID=Europe/Berlin:20170830T190000
DTEND;TZID=Europe/Berlin:20170830T235500
DTSTAMP:20260422T232339
CREATED:20170816T103301Z
LAST-MODIFIED:20170816T103301Z
UID:997-1504119600-1504137300@avuwpd.de
SUMMARY:WIR im Pott - Erste Station: Bochum
DESCRIPTION:Wo seid ihr\, ihr Pöttler? Es gibt einige von euch.\nStefanie\, Hanne\, Uli-Lisa und Gaby freuen sich auf euch! \nDas Extrablatt ist ca. 5 Minuten Fußweg vom Bochumer Hauptbahnhof entfernt. Parkmöglichkeiten: Parkplatz Bermudadreieck in der Kreuzstr. 8 oder Parkhaus P 8 am Konrad-Adenauer-Platz.
URL:https://avuwpd.de/event/wir-im-pott-erste-station-bochum/
CATEGORIES:Veranstaltungen,Westen
END:VEVENT
END:VCALENDAR