BEGIN:VCALENDAR
VERSION:2.0
PRODID:-//AVUWPD | Alumni Vereinigung Up with People Deutschland e.V. - ECPv6.15.20//NONSGML v1.0//EN
CALSCALE:GREGORIAN
METHOD:PUBLISH
X-WR-CALNAME:AVUWPD | Alumni Vereinigung Up with People Deutschland e.V.
X-ORIGINAL-URL:https://avuwpd.de
X-WR-CALDESC:Veranstaltungen für AVUWPD | Alumni Vereinigung Up with People Deutschland e.V.
REFRESH-INTERVAL;VALUE=DURATION:PT1H
X-Robots-Tag:noindex
X-PUBLISHED-TTL:PT1H
BEGIN:VTIMEZONE
TZID:Europe/Berlin
BEGIN:DAYLIGHT
TZOFFSETFROM:+0100
TZOFFSETTO:+0200
TZNAME:CEST
DTSTART:20160327T010000
END:DAYLIGHT
BEGIN:STANDARD
TZOFFSETFROM:+0200
TZOFFSETTO:+0100
TZNAME:CET
DTSTART:20161030T010000
END:STANDARD
BEGIN:DAYLIGHT
TZOFFSETFROM:+0100
TZOFFSETTO:+0200
TZNAME:CEST
DTSTART:20170326T010000
END:DAYLIGHT
BEGIN:STANDARD
TZOFFSETFROM:+0200
TZOFFSETTO:+0100
TZNAME:CET
DTSTART:20171029T010000
END:STANDARD
BEGIN:DAYLIGHT
TZOFFSETFROM:+0100
TZOFFSETTO:+0200
TZNAME:CEST
DTSTART:20180325T010000
END:DAYLIGHT
BEGIN:STANDARD
TZOFFSETFROM:+0200
TZOFFSETTO:+0100
TZNAME:CET
DTSTART:20181028T010000
END:STANDARD
END:VTIMEZONE
BEGIN:VTIMEZONE
TZID:Europe/London
BEGIN:DAYLIGHT
TZOFFSETFROM:+0000
TZOFFSETTO:+0100
TZNAME:BST
DTSTART:20160327T010000
END:DAYLIGHT
BEGIN:STANDARD
TZOFFSETFROM:+0100
TZOFFSETTO:+0000
TZNAME:GMT
DTSTART:20161030T010000
END:STANDARD
BEGIN:DAYLIGHT
TZOFFSETFROM:+0000
TZOFFSETTO:+0100
TZNAME:BST
DTSTART:20170326T010000
END:DAYLIGHT
BEGIN:STANDARD
TZOFFSETFROM:+0100
TZOFFSETTO:+0000
TZNAME:GMT
DTSTART:20171029T010000
END:STANDARD
BEGIN:DAYLIGHT
TZOFFSETFROM:+0000
TZOFFSETTO:+0100
TZNAME:BST
DTSTART:20180325T010000
END:DAYLIGHT
BEGIN:STANDARD
TZOFFSETFROM:+0100
TZOFFSETTO:+0000
TZNAME:GMT
DTSTART:20181028T010000
END:STANDARD
END:VTIMEZONE
BEGIN:VEVENT
DTSTART;VALUE=DATE:20170422
DTEND;VALUE=DATE:20170423
DTSTAMP:20260423T063149
CREATED:20160916T100447Z
LAST-MODIFIED:20170128T103145Z
UID:425-1492819200-1492905599@avuwpd.de
SUMMARY:WIR IN KÖLN: Wildkräuterwanderung in der Eifel
DESCRIPTION:Unsere Wander- und Kräuterexpertin Sabine Ehlers führt uns durch die frühlingshafte Eifel. Wir sammeln alles Essbare\, tauschen uns über Rezepte aus und werden bei Rückkehr in Köln mindestens einen schmackhaften Wildkräutersalat zaubern und verspeisen. Es ist Bärlauch-Zeit! Wer Pesto herstellen und mit nach Hause nehmen möchte\, sollte entsprechende Behälter mitbringen. \nDatum: Samstag\, 22. April 2017\nTreffpunkt: Urfttal in der Nordeifel. Dahin fahren stündlich Züge von Köln oder Trier aus\, und neben dem Bahnhof in Urft gibt es auch einen Wanderparkplatz\, den wir als Treffpunkt nutzen können.\nKosten: Eigene Anreise in die Eifel. Vor Ort keine Kosten.
URL:https://avuwpd.de/event/wildkrauterwanderung-der-eifel/
CATEGORIES:Veranstaltungen
ATTACH;FMTTYPE=image/jpeg:https://avuwpd.de/wp-content/uploads/2016/09/2017-04-08_eifel_wildkrauterwanderung.jpg
ORGANIZER;CN="Sabine Ehlers":MAILTO:bineuwp [  ] web de
END:VEVENT
BEGIN:VEVENT
DTSTART;VALUE=DATE:20170428
DTEND;VALUE=DATE:20170501
DTSTAMP:20260423T063149
CREATED:20160927T091832Z
LAST-MODIFIED:20160927T092016Z
UID:546-1493337600-1493596799@avuwpd.de
SUMMARY:EAM Amsterdam 2017
DESCRIPTION:Die Registrierung ist offen für das Europäische Spektakel 2017: Das European Alumni Meeting in Amsterdam und Leiden. \nEin großes Team niederländischer Alumni hat ein vielfältiges Programm zusammen gestellt\, das Ehemalige UWP-Teilnehmer aus ganz Europa zusammenbringen wird. Freut euch auf typische niederländische Kultur mit dem Besuch im Keukenhof\, einer grandiosen Party sowie Interaktion mit UWP Cast A 2017. Wir werden auch in den Genuss kommen\, die aktuelle UWP-Show „The Journey“ anzusehen. \nJetzt anmelden! Alle Informationen und Registrierung über untenstehende Webseite. Auf der Seite findet ihr auch ein spaßiges Werbevideo vom Team. Wenn ihr das gesehen habt\, habt ihr sicherlich Lust zu kommen. \nDas EAM Amsterdam 2017 ist keine offizielle Veranstaltung der AVUWPD e.V..
URL:https://avuwpd.de/event/eam-amsterdam-2017/
LOCATION:Amsterdam\, Netherlands
CATEGORIES:Veranstaltungen
ATTACH;FMTTYPE=image/png:https://avuwpd.de/wp-content/uploads/2016/09/logo-clear-vfinal-1-layer.png
END:VEVENT
END:VCALENDAR