BEGIN:VCALENDAR
VERSION:2.0
PRODID:-//AVUWPD | Alumni Vereinigung Up with People Deutschland e.V. - ECPv6.15.20//NONSGML v1.0//EN
CALSCALE:GREGORIAN
METHOD:PUBLISH
X-ORIGINAL-URL:https://avuwpd.de
X-WR-CALDESC:Veranstaltungen für AVUWPD | Alumni Vereinigung Up with People Deutschland e.V.
REFRESH-INTERVAL;VALUE=DURATION:PT1H
X-Robots-Tag:noindex
X-PUBLISHED-TTL:PT1H
BEGIN:VTIMEZONE
TZID:Europe/Berlin
BEGIN:DAYLIGHT
TZOFFSETFROM:+0100
TZOFFSETTO:+0200
TZNAME:CEST
DTSTART:20150329T010000
END:DAYLIGHT
BEGIN:STANDARD
TZOFFSETFROM:+0200
TZOFFSETTO:+0100
TZNAME:CET
DTSTART:20151025T010000
END:STANDARD
BEGIN:DAYLIGHT
TZOFFSETFROM:+0100
TZOFFSETTO:+0200
TZNAME:CEST
DTSTART:20160327T010000
END:DAYLIGHT
BEGIN:STANDARD
TZOFFSETFROM:+0200
TZOFFSETTO:+0100
TZNAME:CET
DTSTART:20161030T010000
END:STANDARD
BEGIN:DAYLIGHT
TZOFFSETFROM:+0100
TZOFFSETTO:+0200
TZNAME:CEST
DTSTART:20170326T010000
END:DAYLIGHT
BEGIN:STANDARD
TZOFFSETFROM:+0200
TZOFFSETTO:+0100
TZNAME:CET
DTSTART:20171029T010000
END:STANDARD
END:VTIMEZONE
BEGIN:VEVENT
DTSTART;TZID=Europe/Berlin:20161203T110000
DTEND;TZID=Europe/Berlin:20161203T200000
DTSTAMP:20260423T125256
CREATED:20160930T222042Z
LAST-MODIFIED:20160930T223657Z
UID:627-1480762800-1480795200@avuwpd.de
SUMMARY:Plätzchenbacken und Christkindlesmarkt in Nürnberg
DESCRIPTION:Wie in jedem Jahr treffen sich auch heuer die Franken zum großen Backtag. Und nach getaner Arbeit gehen wir zusammen auf die Kinderweihnacht des Nürnberger Christkindlesmarktes\, um dem Weihnachtsmann einen Besuch abzustatten. Nürnberger Bratwürste\, Lebkuchen und Glühwein werden sicher nicht fehlen!
URL:https://avuwpd.de/event/platzchenbacken-und-christkindlesmarkt-nurnberg/
LOCATION:bei Nils Groppe daheim
CATEGORIES:Veranstaltungen
ATTACH;FMTTYPE=image/jpeg:https://avuwpd.de/wp-content/uploads/2016/10/einfache-plaetzchen-4.jpg
ORGANIZER;CN="Nils Groppe":MAILTO:vorsitz [ ] avuwpd.de
END:VEVENT
BEGIN:VEVENT
DTSTART;TZID=Europe/Berlin:20161205T190000
DTEND;TZID=Europe/Berlin:20161205T220000
DTSTAMP:20260423T125256
CREATED:20160916T100235Z
LAST-MODIFIED:20161221T091743Z
UID:421-1480964400-1480975200@avuwpd.de
SUMMARY:Weihnachtsmarkt Roncalliplatz am Dom
DESCRIPTION:Glühwein oder Kinderpunsch? Triff deine Wahl auf Köln zentralstem Weihnachtsmarkt vor unserem schönen Dom. \nBring a friend: Wir öffnen unsere Aktivitäten für alle\, die sich mit unserem Netzwerk identifizieren.
URL:https://avuwpd.de/event/weihnachtsmarkt-roncalliplatz-dom/
LOCATION:Unter dem großen Weihnachtsbaum\, vor der Bühne\, Roncalliplatz\, Köln\, Germany
CATEGORIES:Veranstaltungen
ORGANIZER;CN="Frank Liffers":MAILTO:fliffers [  ] gmx . de
END:VEVENT
BEGIN:VEVENT
DTSTART;TZID=Europe/Berlin:20161209T170000
DTEND;TZID=Europe/Berlin:20161209T230000
DTSTAMP:20260423T125256
CREATED:20161204T095030Z
LAST-MODIFIED:20161221T091658Z
UID:777-1481302800-1481324400@avuwpd.de
SUMMARY:EP-Redaktionstreffen und Weihnachtsmarkt in München
DESCRIPTION:Gemütlichkeit und Adventsstimmung mit Freunden in München. \n17.00 Uhr EP-Redaktionstreffen bei Bettina und Armin.\nab 18.30 Uhr Weihnachtsmarkt am Chinesischen Turm \nBettina und Armin freuen sich auf euch.
URL:https://avuwpd.de/event/ep-redaktionstreffen-und-weihnachtsmarkt-in-muenchen/
ORGANIZER;CN="":MAILTO:bettina.dommnich@gmx.de
END:VEVENT
END:VCALENDAR