BEGIN:VCALENDAR
VERSION:2.0
PRODID:-//AVUWPD | Alumni Vereinigung Up with People Deutschland e.V. - ECPv6.15.20//NONSGML v1.0//EN
CALSCALE:GREGORIAN
METHOD:PUBLISH
X-WR-CALNAME:AVUWPD | Alumni Vereinigung Up with People Deutschland e.V.
X-ORIGINAL-URL:https://avuwpd.de
X-WR-CALDESC:Veranstaltungen für AVUWPD | Alumni Vereinigung Up with People Deutschland e.V.
REFRESH-INTERVAL;VALUE=DURATION:PT1H
X-Robots-Tag:noindex
X-PUBLISHED-TTL:PT1H
BEGIN:VTIMEZONE
TZID:Europe/Berlin
BEGIN:DAYLIGHT
TZOFFSETFROM:+0100
TZOFFSETTO:+0200
TZNAME:CEST
DTSTART:20150329T010000
END:DAYLIGHT
BEGIN:STANDARD
TZOFFSETFROM:+0200
TZOFFSETTO:+0100
TZNAME:CET
DTSTART:20151025T010000
END:STANDARD
BEGIN:DAYLIGHT
TZOFFSETFROM:+0100
TZOFFSETTO:+0200
TZNAME:CEST
DTSTART:20160327T010000
END:DAYLIGHT
BEGIN:STANDARD
TZOFFSETFROM:+0200
TZOFFSETTO:+0100
TZNAME:CET
DTSTART:20161030T010000
END:STANDARD
BEGIN:DAYLIGHT
TZOFFSETFROM:+0100
TZOFFSETTO:+0200
TZNAME:CEST
DTSTART:20170326T010000
END:DAYLIGHT
BEGIN:STANDARD
TZOFFSETFROM:+0200
TZOFFSETTO:+0100
TZNAME:CET
DTSTART:20171029T010000
END:STANDARD
END:VTIMEZONE
BEGIN:VEVENT
DTSTART;VALUE=DATE:20160930
DTEND;VALUE=DATE:20161001
DTSTAMP:20260423T174151
CREATED:20160916T094450Z
LAST-MODIFIED:20160916T094450Z
UID:416-1475193600-1475279999@avuwpd.de
SUMMARY:Jahrestreffen und Mitgliederversammlung in Wolfsburg
DESCRIPTION:Zwischen Harz und Heide an Aller und Mittellandkanal liegt die Heimat von „Käfer“ und „Bulli“ und die der deutschen Nationalhymne. \nNach fast eineinhalb Jahren wird es endlich wieder Zeit\, mit Freunden viele schöne Stunden zu verbringen und bei DER PARTY des Jahres mal wieder so richtig abzurocken. Was gibt es da Schöneres\, als unser Alumni-Jahrestreffen? Wir freuen uns darauf\, Euch in diesem Herbst in Wolfsburg begrüßen zu können. \nTrotz Autostadt ist in Wolfsburg fast alles zu Fuß erreichbar. Die außergewöhnliche Party-Location wird Euch staunen und ein Weltenbummler wird Euch völlig motiviert in die neue Woche starten lassen. Also\, schnell anmelden\, sonst verpasst ihr Wolfsburg – Das Treffen. \nDatum: Freitag\, 30.9. bis Montag\, 3.10.2016 \nZur Registrierung geht´s hier.   (http://s358567214.online.de/site/jhv/php/anmeldung.php)
URL:https://avuwpd.de/event/jahrestreffen-und-mitgliederversammlung-wolfsburg/
CATEGORIES:Veranstaltungen
ATTACH;FMTTYPE=image/jpeg:https://avuwpd.de/wp-content/uploads/2016/09/2016-09-30_wolfsburg_veranstaltungs-logo.jpg
END:VEVENT
END:VCALENDAR