BEGIN:VCALENDAR
VERSION:2.0
PRODID:-//AVUWPD | Alumni Vereinigung Up with People Deutschland e.V. - ECPv6.15.20//NONSGML v1.0//EN
CALSCALE:GREGORIAN
METHOD:PUBLISH
X-ORIGINAL-URL:https://avuwpd.de
X-WR-CALDESC:Veranstaltungen für AVUWPD | Alumni Vereinigung Up with People Deutschland e.V.
REFRESH-INTERVAL;VALUE=DURATION:PT1H
X-Robots-Tag:noindex
X-PUBLISHED-TTL:PT1H
BEGIN:VTIMEZONE
TZID:Europe/Berlin
BEGIN:DAYLIGHT
TZOFFSETFROM:+0100
TZOFFSETTO:+0200
TZNAME:CEST
DTSTART:20150329T010000
END:DAYLIGHT
BEGIN:STANDARD
TZOFFSETFROM:+0200
TZOFFSETTO:+0100
TZNAME:CET
DTSTART:20151025T010000
END:STANDARD
BEGIN:DAYLIGHT
TZOFFSETFROM:+0100
TZOFFSETTO:+0200
TZNAME:CEST
DTSTART:20160327T010000
END:DAYLIGHT
BEGIN:STANDARD
TZOFFSETFROM:+0200
TZOFFSETTO:+0100
TZNAME:CET
DTSTART:20161030T010000
END:STANDARD
BEGIN:DAYLIGHT
TZOFFSETFROM:+0100
TZOFFSETTO:+0200
TZNAME:CEST
DTSTART:20170326T010000
END:DAYLIGHT
BEGIN:STANDARD
TZOFFSETFROM:+0200
TZOFFSETTO:+0100
TZNAME:CET
DTSTART:20171029T010000
END:STANDARD
END:VTIMEZONE
BEGIN:VEVENT
DTSTART;TZID=Europe/Berlin:20160819T183000
DTEND;TZID=Europe/Berlin:20160819T220000
DTSTAMP:20260423T192041
CREATED:20160916T094118Z
LAST-MODIFIED:20160925T150512Z
UID:404-1471631400-1471644000@avuwpd.de
SUMMARY:Snapchat-Session
DESCRIPTION:Filomena Lopedoto ist ein Digital Immigrant mit mehrjähriger Erfahrung in Aufbau und Pflege von Social Media-Profilen für Organisationen und Unternehmen. Wir wollen mit ihr einen Einblick in den Instant-Messaging-Dienst „Snapchat“ gewinnen\, der seit einigen Monaten in Deutschland für viel Aufsehen sorgt. \nWir werden die App selbst ausprobieren und vor allem Erfahrungen austauschen. Auch\, wenn du Snapchat bisher nicht nutzt oder gar nicht nutzen möchtest\, ist das eine gute Gelegenheit\, Eindrücke in die App und die Nutzungsmöglichkeiten zu gewinnen. \nFilomena wird eine kurze Einführung geben und dann geht´s auf einen gemeinsamen Spaziergang durch die Kölner Altstadt und wir probieren das aus. \nWer die App selbst ausprobieren möchte\, sollte sie sich im Vorfeld auf das eigene Smartphone herunterladen\, um Datenvolumen zu sparen. (Mitmachen\, mitsnappen und mitlaufen ohne Smartphone und App: Sehr gerne!) \nBring a friend: Partner\, Kinder\, Eltern\, AVUWPD- und UWP-Freunde. Wir öffnen unsere Aktivitäten für alle\, die sich mit unserem Netzwerk identifizieren.
URL:https://avuwpd.de/event/snapchat-session/
LOCATION:Heumarkt\, Köln\, Germany
CATEGORIES:Veranstaltungen
ATTACH;FMTTYPE=image/jpeg:https://avuwpd.de/wp-content/uploads/2016/09/2016-08-19_foto_snapcode-fldus-e1499706128573.jpg
ORGANIZER;CN="Frank Liffers":MAILTO:fliffers [  ] gmx . de
END:VEVENT
END:VCALENDAR