BEGIN:VCALENDAR
VERSION:2.0
PRODID:-//AVUWPD | Alumni Vereinigung Up with People Deutschland e.V. - ECPv6.15.20//NONSGML v1.0//EN
CALSCALE:GREGORIAN
METHOD:PUBLISH
X-ORIGINAL-URL:https://avuwpd.de
X-WR-CALDESC:Veranstaltungen für AVUWPD | Alumni Vereinigung Up with People Deutschland e.V.
REFRESH-INTERVAL;VALUE=DURATION:PT1H
X-Robots-Tag:noindex
X-PUBLISHED-TTL:PT1H
BEGIN:VTIMEZONE
TZID:Europe/Berlin
BEGIN:DAYLIGHT
TZOFFSETFROM:+0100
TZOFFSETTO:+0200
TZNAME:CEST
DTSTART:20170326T010000
END:DAYLIGHT
BEGIN:STANDARD
TZOFFSETFROM:+0200
TZOFFSETTO:+0100
TZNAME:CET
DTSTART:20171029T010000
END:STANDARD
BEGIN:DAYLIGHT
TZOFFSETFROM:+0100
TZOFFSETTO:+0200
TZNAME:CEST
DTSTART:20180325T010000
END:DAYLIGHT
BEGIN:STANDARD
TZOFFSETFROM:+0200
TZOFFSETTO:+0100
TZNAME:CET
DTSTART:20181028T010000
END:STANDARD
BEGIN:DAYLIGHT
TZOFFSETFROM:+0100
TZOFFSETTO:+0200
TZNAME:CEST
DTSTART:20190331T010000
END:DAYLIGHT
BEGIN:STANDARD
TZOFFSETFROM:+0200
TZOFFSETTO:+0100
TZNAME:CET
DTSTART:20191027T010000
END:STANDARD
END:VTIMEZONE
BEGIN:VEVENT
DTSTART;TZID=Europe/Berlin:20181216T180000
DTEND;TZID=Europe/Berlin:20181216T180000
DTSTAMP:20260421T203227
CREATED:20181202T170145Z
LAST-MODIFIED:20181208T203536Z
UID:1185-1544983200-1544983200@avuwpd.de
SUMMARY:WIR in Düsseldorf: Weihnachtsmarktbummel
DESCRIPTION:Auch in Düsseldorf gehen wir im Dezember wieder auf den Weihnachtsmarkt. Wir treffen uns am 16.12. um 18 Uhr gegenüber vom Carsch-Haus (Heinrich-Heine-Platz\, U-Bahn Heinrich-Heine-Allee) am Glühweinstand mit der Weihnachtspyramide. RSVP bitte in der Facebook-Veranstaltung (https://www.facebook.com/events/2045564348837159/) oder an Filomena (international(a)avuwpd.de).
URL:https://avuwpd.de/event/wir-in-dusseldorf-weihnachtsmarktbummel/
ATTACH;FMTTYPE=image/jpeg:https://avuwpd.de/wp-content/uploads/2018/12/wir-in-dsseldorf-weihnachtmarkt-ii.jpg
END:VEVENT
END:VCALENDAR